BEGIN:VCALENDAR
VERSION:2.0
PRODID:-//Zonta Club of Petoskey Area - ECPv6.15.11//NONSGML v1.0//EN
CALSCALE:GREGORIAN
METHOD:PUBLISH
X-WR-CALNAME:Zonta Club of Petoskey Area
X-ORIGINAL-URL:https://zontapetoskey.com
X-WR-CALDESC:Events for Zonta Club of Petoskey Area
REFRESH-INTERVAL;VALUE=DURATION:PT1H
X-Robots-Tag:noindex
X-PUBLISHED-TTL:PT1H
BEGIN:VTIMEZONE
TZID:UTC
BEGIN:STANDARD
TZOFFSETFROM:+0000
TZOFFSETTO:+0000
TZNAME:UTC
DTSTART:20230101T000000
END:STANDARD
END:VTIMEZONE
BEGIN:VEVENT
DTSTART;TZID=UTC:20240118T120000
DTEND;TZID=UTC:20240118T130000
DTSTAMP:20260425T122317
CREATED:20240111T152109Z
LAST-MODIFIED:20240117T190127Z
UID:1997-1705579200-1705582800@zontapetoskey.com
SUMMARY:Business Meeting
DESCRIPTION:The next meeting for Zonta Club of Petoskey will be on Thursday\, January 18 at noon in the Westminster Room of First Presbyterian Church of Petoskey.  Please make every effort to attend.  We will induct two new members to our club\, Robyn Rakeniewski and Kate Cohen\, as well as ask for members to sign up for the many and varied committees to support the Fashion Show on November 2.  To see the list of committees needing support\, click HERE.  This is a brown bag lunch..
URL:https://zontapetoskey.com/event/business-meeting-24/
LOCATION:First Presbyterian Church\, 501 E Mitchell St\, Petoskey\, MI\, 49770
END:VEVENT
END:VCALENDAR