BEGIN:VCALENDAR
VERSION:2.0
PRODID:-//Zonta Club of Petoskey Area - ECPv6.15.11//NONSGML v1.0//EN
CALSCALE:GREGORIAN
METHOD:PUBLISH
X-ORIGINAL-URL:https://zontapetoskey.com
X-WR-CALDESC:Events for Zonta Club of Petoskey Area
REFRESH-INTERVAL;VALUE=DURATION:PT1H
X-Robots-Tag:noindex
X-PUBLISHED-TTL:PT1H
BEGIN:VTIMEZONE
TZID:UTC
BEGIN:STANDARD
TZOFFSETFROM:+0000
TZOFFSETTO:+0000
TZNAME:UTC
DTSTART:20220101T000000
END:STANDARD
END:VTIMEZONE
BEGIN:VEVENT
DTSTART;TZID=UTC:20231102T120000
DTEND;TZID=UTC:20231102T130000
DTSTAMP:20260425T154254
CREATED:20230906T141150Z
LAST-MODIFIED:20230907T130341Z
UID:1916-1698926400-1698930000@zontapetoskey.com
SUMMARY:Program Meeting
DESCRIPTION:
URL:https://zontapetoskey.com/event/program-meeting-18/
LOCATION:First Presbyterian Church\, 501 E Mitchell St\, Petoskey\, MI\, 49770
END:VEVENT
BEGIN:VEVENT
DTSTART;TZID=UTC:20231104T110000
DTEND;TZID=UTC:20231104T140000
DTSTAMP:20260425T154254
CREATED:20230906T141339Z
LAST-MODIFIED:20230906T141339Z
UID:1920-1699095600-1699106400@zontapetoskey.com
SUMMARY:51st Annual Fashion Show
DESCRIPTION:Zonta Club of Petoskey invites the public to their 51st annual Fashion Show on Saturday\, November 4 from 11 a.m. to 2 p.m. in the Lange Center at Bay Harbor Yacht Club. The Fashion Show\, themed “Wise\, Wonderful\, Women\,” will present its full runway show and highlight the latest fall and winter fashions from more than 30 retailers in the Petoskey-Harbor Springs area\, and include an elegant lunch\, entertainment\, a silent auction and a gift basket raffle. Michelle Chenard will be the featured performer for the event. \nThis year all attendees will be entered into a drawing for a $2\,000+ piece of diamond jewelry\,\ngenerously donated by Arlington Jewelers. \nEach year\, Zonta Club of Petoskey gives more than $10\,000 to organizations that improve the\nstatus of women and girls. The Fashion Show is the club’s primary fundraiser. \nEarly bird tickets (now to 9/30/23) are $75 each and you can purchase tables of 6 or 8. Make\nyour reservations online by clicking Buy Tickets Now. If you would like to pay by check\, you can download an invitation. Ticket prices increase to $100 per person on October 1.1. \nCome join us for fun\, food\, fashions and fabulous auction items and support our efforts to\nadvance the status of women and girls.
URL:https://zontapetoskey.com/event/51st-annual-fashion-show/
LOCATION:Bay Harbor Yacht Club\, 4300 Vista Drive\, Bay Harbor\, MI\, 49770
END:VEVENT
BEGIN:VEVENT
DTSTART;TZID=UTC:20231116T120000
DTEND;TZID=UTC:20231116T130000
DTSTAMP:20260425T154254
CREATED:20230906T141217Z
LAST-MODIFIED:20230907T130325Z
UID:1918-1700136000-1700139600@zontapetoskey.com
SUMMARY:Business Meeting
DESCRIPTION:
URL:https://zontapetoskey.com/event/business-meeting-23/
LOCATION:First Presbyterian Church\, 501 E Mitchell St\, Petoskey\, MI\, 49770
END:VEVENT
END:VCALENDAR