BEGIN:VCALENDAR
VERSION:2.0
PRODID:-//Zonta Club of Petoskey Area - ECPv6.15.11//NONSGML v1.0//EN
CALSCALE:GREGORIAN
METHOD:PUBLISH
X-ORIGINAL-URL:https://zontapetoskey.com
X-WR-CALDESC:Events for Zonta Club of Petoskey Area
REFRESH-INTERVAL;VALUE=DURATION:PT1H
X-Robots-Tag:noindex
X-PUBLISHED-TTL:PT1H
BEGIN:VTIMEZONE
TZID:UTC
BEGIN:STANDARD
TZOFFSETFROM:+0000
TZOFFSETTO:+0000
TZNAME:UTC
DTSTART:20220101T000000
END:STANDARD
END:VTIMEZONE
BEGIN:VEVENT
DTSTART;TZID=UTC:20231005T120000
DTEND;TZID=UTC:20231005T130000
DTSTAMP:20260425T172347
CREATED:20230906T141011Z
LAST-MODIFIED:20230906T141011Z
UID:1912-1696507200-1696510800@zontapetoskey.com
SUMMARY:Program Meeting "Bring a Friend"
DESCRIPTION:Please plan to bring a dish to pass\, and a friend or two with you to our  “bring a friend” day! Gal Kloss will be doing a 15+ minute presentation on the Women’s Resource Center with a hands-on component to get everyone engaged. We will also be doing a short presentation on both our local initiatives and also international initiatives. \n 
URL:https://zontapetoskey.com/event/program-meeting-bring-a-friend/
LOCATION:First Presbyterian Church\, 501 E Mitchell St\, Petoskey\, MI\, 49770
END:VEVENT
BEGIN:VEVENT
DTSTART;TZID=UTC:20231019T120000
DTEND;TZID=UTC:20231019T130000
DTSTAMP:20260425T172347
CREATED:20230906T141119Z
LAST-MODIFIED:20230907T130356Z
UID:1914-1697716800-1697720400@zontapetoskey.com
SUMMARY:Business Meeting
DESCRIPTION:
URL:https://zontapetoskey.com/event/business-meeting-22/
LOCATION:First Presbyterian Church\, 501 E Mitchell St\, Petoskey\, MI\, 49770
END:VEVENT
END:VCALENDAR