BEGIN:VCALENDAR
VERSION:2.0
PRODID:-//Zonta Club of Petoskey Area - ECPv6.15.11//NONSGML v1.0//EN
CALSCALE:GREGORIAN
METHOD:PUBLISH
X-ORIGINAL-URL:https://zontapetoskey.com
X-WR-CALDESC:Events for Zonta Club of Petoskey Area
REFRESH-INTERVAL;VALUE=DURATION:PT1H
X-Robots-Tag:noindex
X-PUBLISHED-TTL:PT1H
BEGIN:VTIMEZONE
TZID:UTC
BEGIN:STANDARD
TZOFFSETFROM:+0000
TZOFFSETTO:+0000
TZNAME:UTC
DTSTART:20220101T000000
END:STANDARD
END:VTIMEZONE
BEGIN:VEVENT
DTSTART;TZID=UTC:20230907T120000
DTEND;TZID=UTC:20230907T130000
DTSTAMP:20260425T190939
CREATED:20230906T140554Z
LAST-MODIFIED:20230907T131134Z
UID:1908-1694088000-1694091600@zontapetoskey.com
SUMMARY:Program Meeting
DESCRIPTION:SEPTEMBER PROGRAM MEETING\nOn Thursday\, September 7\, Zonta Club of Petoskey welcomes Tammy Jo Remsberg. Tammy Jo  is a 62 year old woman defying age stereotypes and embracing life with vigor. “As a mother of three and a cherished grandmother of two\, I have been blessed. But it has been a struggle… \nMy path has been marked by challenges\, being diagnosed with lupus and several other autoimmune conditions\, I had to dig deep to not let these health battles define me. Instead\, I focused on harnessing my inner strength to offer hope for others facing similar struggles. \nFor the past eight years\, I have found my  passion in powerlifting. With unparalleled dedication and hard work\, I’ve earned multiple state and national titles\, proving that age and health obstacles are no match for an indomitable spirit. This journey into powerlifting mirrors my approach to life – facing challenges head-on\, breaking barriers\, and emerging victorious. \nMy hope in sharing my story and insights on resilience\, empowerment\, and the unbreakable human spirit. I pray it serves as a reminder that adversity can be transformed into strength and that every setback can be a stepping stone toward greatness.” \nPlease join us at this powerful program at noon on September 7. \n 
URL:https://zontapetoskey.com/event/program-meeting-17/
LOCATION:First Presbyterian Church\, 501 E Mitchell St\, Petoskey\, MI\, 49770
END:VEVENT
BEGIN:VEVENT
DTSTART;TZID=UTC:20230921T120000
DTEND;TZID=UTC:20230921T130000
DTSTAMP:20260425T190939
CREATED:20230906T140659Z
LAST-MODIFIED:20230907T130426Z
UID:1910-1695297600-1695301200@zontapetoskey.com
SUMMARY:Business Meeting
DESCRIPTION:
URL:https://zontapetoskey.com/event/business-meeting-21/
LOCATION:First Presbyterian Church\, 501 E Mitchell St\, Petoskey\, MI\, 49770
END:VEVENT
END:VCALENDAR