BEGIN:VCALENDAR
VERSION:2.0
PRODID:-//Zonta Club of Petoskey Area - ECPv6.15.11//NONSGML v1.0//EN
CALSCALE:GREGORIAN
METHOD:PUBLISH
X-ORIGINAL-URL:https://zontapetoskey.com
X-WR-CALDESC:Events for Zonta Club of Petoskey Area
REFRESH-INTERVAL;VALUE=DURATION:PT1H
X-Robots-Tag:noindex
X-PUBLISHED-TTL:PT1H
BEGIN:VTIMEZONE
TZID:UTC
BEGIN:STANDARD
TZOFFSETFROM:+0000
TZOFFSETTO:+0000
TZNAME:UTC
DTSTART:20220101T000000
END:STANDARD
END:VTIMEZONE
BEGIN:VEVENT
DTSTART;TZID=UTC:20230601T120000
DTEND;TZID=UTC:20230601T130000
DTSTAMP:20260426T002556
CREATED:20230531T165151Z
LAST-MODIFIED:20230531T165151Z
UID:1810-1685620800-1685624400@zontapetoskey.com
SUMMARY:Program Meeting
DESCRIPTION:Zonta Club of Petoskey welcomes Jill Ryan as our program speaker on Thursday\, June 1. Jill Ryan received her bachelor’s degree in biology from Grand Valley State University in Michigan\, her master’s degree in zoology from the University of Maine\, and her law degree from Case Western Reserve University in Ohio. She has a background in nonprofit management and capacity building\, environmental toxicology\, and human services\, and has taught environmental law and legal research. Jill has held positions with the U.S. Fish and Wildlife Service and is now the Executive Director of Freshwater Future\, where she has been since 2000. In addition to building Freshwater Future\, Jill’s passion focuses on increasing grassroots capacity to protect waters in the Great Lakes region\, including assisting with a variety of planning processes\, board development\, facilitation and bi-national collaborative efforts. She serves on the Healing Our Waters Governance Board\, helped spur creation of the growing Great Lakes Network and monitors emerging issues in the region. Jill enjoys paddling\, cycling and camping with her family who reside in Jamestown\, New York. \nNEW LUNCH INFORMATION \nLUNCHES Parkside Deli is back open for lunch hours! There is a NEW way to order. You can order ONLINE. Order any sandwich\, and the chips and beverage are free for our “deal”. Or\, a salad and your beverage is free. This is an even better discount than before\, as most sandwiches are $10-$11.\nHOW TO ORDER: Go ONLINE HERE \nSelect any sandwich (includes free chips and beverage) or salad (includes free beverage)\nIn the special instructions section: add your choice of chips (Original\, Cherry BBQ\, Parmesan Ranch\, Salt & Vinegar\, Buffalo Wing) // and beverage bottled water or can soda (the can soda labeled as “pop” – glass bottles and fancy lemonades not eligible)\, and include the word “ZONTA” so she knows it is for our delivery.\nCheck out and pay and it will be delivered to the meetings. Please tip for delivery on your own accord.\nDO NOT ADD THE CHIPS AND BEVERAGE TO YOUR “CART” or you will be charged for them. Add in the notes section only.\nPlease note – in the summer they often do not answer the phone because they are too busy\, so online ordering is best to ensure your order is placed.
URL:https://zontapetoskey.com/event/program-meeting-15/
LOCATION:First Presbyterian Church\, 501 E Mitchell St\, Petoskey\, MI\, 49770
END:VEVENT
BEGIN:VEVENT
DTSTART;TZID=UTC:20230615T120000
DTEND;TZID=UTC:20230615T130000
DTSTAMP:20260426T002556
CREATED:20230531T165241Z
LAST-MODIFIED:20230531T165241Z
UID:1813-1686830400-1686834000@zontapetoskey.com
SUMMARY:Business Meeting
DESCRIPTION:Business Meeting. \nNEW LUNCH INFORMATION \nLUNCHES Parkside Deli is back open for lunch hours! There is a NEW way to order. You can order ONLINE. Order any sandwich\, and the chips and beverage are free for our “deal”. Or\, a salad and your beverage is free. This is an even better discount than before\, as most sandwiches are $10-$11.\nHOW TO ORDER: Go ONLINE HERE \nSelect any sandwich (includes free chips and beverage) or salad (includes free beverage)\nIn the special instructions section: add your choice of chips (Original\, Cherry BBQ\, Parmesan Ranch\, Salt & Vinegar\, Buffalo Wing) // and beverage bottled water or can soda (the can soda labeled as “pop” – glass bottles and fancy lemonades not eligible)\, and include the word “ZONTA” so she knows it is for our delivery.\nCheck out and pay and it will be delivered to the meetings. Please tip for delivery on your own accord.\nDO NOT ADD THE CHIPS AND BEVERAGE TO YOUR “CART” or you will be charged for them. Add in the notes section only.\nPlease note – in the summer they often do not answer the phone because they are too busy\, so online ordering is best to ensure your order is placed.
URL:https://zontapetoskey.com/event/business-meeting-19/
LOCATION:First Presbyterian Church\, 501 E Mitchell St\, Petoskey\, MI\, 49770
END:VEVENT
END:VCALENDAR