BEGIN:VCALENDAR
VERSION:2.0
PRODID:-//Zonta Club of Petoskey Area - ECPv6.15.11//NONSGML v1.0//EN
CALSCALE:GREGORIAN
METHOD:PUBLISH
X-WR-CALNAME:Zonta Club of Petoskey Area
X-ORIGINAL-URL:https://zontapetoskey.com
X-WR-CALDESC:Events for Zonta Club of Petoskey Area
REFRESH-INTERVAL;VALUE=DURATION:PT1H
X-Robots-Tag:noindex
X-PUBLISHED-TTL:PT1H
BEGIN:VTIMEZONE
TZID:UTC
BEGIN:STANDARD
TZOFFSETFROM:+0000
TZOFFSETTO:+0000
TZNAME:UTC
DTSTART:20200101T000000
END:STANDARD
END:VTIMEZONE
BEGIN:VEVENT
DTSTART;TZID=UTC:20220615T170000
DTEND;TZID=UTC:20220615T190000
DTSTAMP:20260425T113233
CREATED:20220601T193633Z
LAST-MODIFIED:20220601T193633Z
UID:1430-1655312400-1655319600@zontapetoskey.com
SUMMARY:Zonta Fellowship Happy Hour
DESCRIPTION:You’re invited! Join our host\, Sherry McGuffin\, for wine\, snacks\, and some good ol’ fashioned Zontian fellowship! Appetizers\, wine\, and non-alcoholic punch provided\, but please feel free to bring a dish\, wine\, or beverage to share. Please RSVP by June 13 to Sherry at (231) 881-1212 or pastorsherry@sbcglobal.net\nAddress: 314 W. Lake Street\, Petoskey
URL:https://zontapetoskey.com/event/zonta-fellowship-happy-hour/
LOCATION:MI
END:VEVENT
BEGIN:VEVENT
DTSTART;TZID=UTC:20220602T120000
DTEND;TZID=UTC:20220602T130000
DTSTAMP:20260425T113233
CREATED:20220506T132100Z
LAST-MODIFIED:20220519T183524Z
UID:1414-1654171200-1654174800@zontapetoskey.com
SUMMARY:Program Meeting
DESCRIPTION:
URL:https://zontapetoskey.com/event/program-meeting-6/
LOCATION:Crooked Tree Arts Center Theater\, 461 E Mitchell\, Petoskey\, MI\, 49770\, United States
END:VEVENT
BEGIN:VEVENT
DTSTART;TZID=UTC:20220519T120000
DTEND;TZID=UTC:20220519T130000
DTSTAMP:20260425T113233
CREATED:20220428T132046Z
LAST-MODIFIED:20220428T132046Z
UID:1410-1652961600-1652965200@zontapetoskey.com
SUMMARY:Business Meeting
DESCRIPTION:
URL:https://zontapetoskey.com/event/business-meeting-7/
LOCATION:City Park Grill\, 432 E Lake Street\, Petoskey\, MI\, 49770
END:VEVENT
BEGIN:VEVENT
DTSTART;TZID=UTC:20220505T120000
DTEND;TZID=UTC:20220505T130000
DTSTAMP:20260425T113233
CREATED:20211215T215418Z
LAST-MODIFIED:20220428T131326Z
UID:1326-1651752000-1651755600@zontapetoskey.com
SUMMARY:Program Meeting
DESCRIPTION:Petoskey District Library will present two mini sessions at our next Zonta Program Meeting. Is it fact or is it fiction? How do you know? All of us have heard something on the news\, read something in the newspaper\, or seen a post on Facebook or Instagram and wondered if it was true or false. In this presentation\, Phyllis Ledyard and Kim Block from the PDL News Literacy Committee will show you how to be news literate so you can determine what is actually fact and what is not. Phyllis Ledyard and Kim Block are former educators. Then\, in light of all the book banning and burning going on in libraries around the country\, PDL Director Valerie Meyerson will be discuss the public library collection maintenance process and the freedom to read.
URL:https://zontapetoskey.com/event/program-meeting-5/
LOCATION:City Park Grill\, 432 E Lake Street\, Petoskey\, MI\, 49770
END:VEVENT
BEGIN:VEVENT
DTSTART;TZID=UTC:20220421T120000
DTEND;TZID=UTC:20220421T130000
DTSTAMP:20260425T113233
CREATED:20211215T215457Z
LAST-MODIFIED:20211215T215457Z
UID:1328-1650542400-1650546000@zontapetoskey.com
SUMMARY:Business Meeting
DESCRIPTION:
URL:https://zontapetoskey.com/event/business-meeting-6/
LOCATION:City Park Grill\, 432 E Lake Street\, Petoskey\, MI\, 49770
END:VEVENT
BEGIN:VEVENT
DTSTART;TZID=UTC:20220414T120000
DTEND;TZID=UTC:20220414T130000
DTSTAMP:20260425T113233
CREATED:20211215T215313Z
LAST-MODIFIED:20220227T213409Z
UID:1324-1649937600-1649941200@zontapetoskey.com
SUMMARY:Business Meeting
DESCRIPTION:
URL:https://zontapetoskey.com/event/business-meeting-5/
LOCATION:City Park Grill\, 432 E Lake Street\, Petoskey\, MI\, 49770
END:VEVENT
BEGIN:VEVENT
DTSTART;TZID=UTC:20220407T120000
DTEND;TZID=UTC:20220407T130000
DTSTAMP:20260425T113233
CREATED:20211215T215232Z
LAST-MODIFIED:20220406T194311Z
UID:1322-1649332800-1649336400@zontapetoskey.com
SUMMARY:Program Meeting
DESCRIPTION:On April 7\, we welcome our very own Laura Taylor.  Laura is currently working on her doctorate in nursing. Her topic will be :Perinatal Mood and Anxiety Disorders: perinatal PTSD and traumatic childbirth \nWe will discuss the power of birth and psychological sequelae from trauma and traumatic childbirth that can place the mother at risk for perinatal PTSD. A broad understanding of traumatic childbirth and PTSD will be presented. This discussion will bring people together to discuss this phenomenon and how we as women can help empower those that have experienced traumatic childbirth and diagnosed with perinatal PTSD.
URL:https://zontapetoskey.com/event/program-meeting-4/
LOCATION:City Park Grill\, 432 E Lake Street\, Petoskey\, MI\, 49770
END:VEVENT
BEGIN:VEVENT
DTSTART;TZID=UTC:20220317T120000
DTEND;TZID=UTC:20220317T130000
DTSTAMP:20260425T113233
CREATED:20211215T215137Z
LAST-MODIFIED:20211215T215137Z
UID:1320-1647518400-1647522000@zontapetoskey.com
SUMMARY:Business Meeting
DESCRIPTION:
URL:https://zontapetoskey.com/event/business-meeting-4/
LOCATION:City Park Grill\, 432 E Lake Street\, Petoskey\, MI\, 49770
END:VEVENT
BEGIN:VEVENT
DTSTART;TZID=UTC:20220303T120000
DTEND;TZID=UTC:20220303T130000
DTSTAMP:20260425T113233
CREATED:20211215T215103Z
LAST-MODIFIED:20220227T213257Z
UID:1318-1646308800-1646312400@zontapetoskey.com
SUMMARY:Program Meeting
DESCRIPTION:On Thursday\, March 3\, join us for our annual special meeting honoring our grantees for 2022!
URL:https://zontapetoskey.com/event/program-meeting-3/
LOCATION:City Park Grill\, 432 E Lake Street\, Petoskey\, MI\, 49770
END:VEVENT
BEGIN:VEVENT
DTSTART;TZID=UTC:20220217T120000
DTEND;TZID=UTC:20220217T130000
DTSTAMP:20260425T113233
CREATED:20211215T214911Z
LAST-MODIFIED:20220215T184357Z
UID:1315-1645099200-1645102800@zontapetoskey.com
SUMMARY:Business Meeting
DESCRIPTION:Meeting at the CTAC Visual Arts room (across from the kitchen room on the main level). Lani Ochs will be speaking with us on Membership.
URL:https://zontapetoskey.com/event/business-meeting-3/
LOCATION:Crooked Tree Arts Center Theater\, 461 E Mitchell\, Petoskey\, MI\, 49770\, United States
END:VEVENT
BEGIN:VEVENT
DTSTART;TZID=UTC:20220203T120000
DTEND;TZID=UTC:20220203T130000
DTSTAMP:20260425T113233
CREATED:20211215T214610Z
LAST-MODIFIED:20220129T215251Z
UID:1313-1643889600-1643893200@zontapetoskey.com
SUMMARY:Program Meeting
DESCRIPTION:Zonta Club of Petoskey welcomes Samara Hunt as our speaker on February 3. S. A. HUNT (she/her) is the author of the Malus Domestica horror-action series from Tor Books\, which begins with Burn the Dark. In 2014\, Samara won Reddit’s /r/Fantasy “Independent Novel of the Year” Stabby Award for her Outlaw King fantasy gunslinger series. She is an Afghanistan veteran (OEF 2010)\, a coffee enthusiast\, a fervent bicyclist\, and she currently lives in Petoskey\, Michigan. We will watch a video entitled “Transcending Gender” and then Samara\, a transgender woman\, will be speaking on transgender issues and answering questions.
URL:https://zontapetoskey.com/event/program-meeting-2/
LOCATION:Petoskey District Library Classroom\, 500 E Mitchell Street\, Petoskey\, MI\, 49770\, United States
END:VEVENT
BEGIN:VEVENT
DTSTART;TZID=UTC:20220120T234500
DTEND;TZID=UTC:20220120T234500
DTSTAMP:20260425T113233
CREATED:20211215T202933Z
LAST-MODIFIED:20220106T182954Z
UID:1311-1642722300-1642722300@zontapetoskey.com
SUMMARY:Business Meeting
DESCRIPTION:We will meet 15 minutes early to allow time to package period products.
URL:https://zontapetoskey.com/event/business-meeting-2/
LOCATION:Petoskey District Library Children’s Program Room
END:VEVENT
BEGIN:VEVENT
DTSTART;TZID=UTC:20220106T120000
DTEND;TZID=UTC:20220106T130000
DTSTAMP:20260425T113233
CREATED:20211215T202851Z
LAST-MODIFIED:20220103T131442Z
UID:1309-1641470400-1641474000@zontapetoskey.com
SUMMARY:Program Meeting
DESCRIPTION:Sarah Ford will speak about the housing crisis and update on progress.
URL:https://zontapetoskey.com/event/program-meeting/
LOCATION:Petoskey District Library Classroom\, 500 E Mitchell Street\, Petoskey\, MI\, 49770\, United States
END:VEVENT
BEGIN:VEVENT
DTSTART;VALUE=DATE:20211216
DTEND;VALUE=DATE:20211217
DTSTAMP:20260425T113233
CREATED:20211129T155040Z
LAST-MODIFIED:20211129T155040Z
UID:1303-1639612800-1639699199@zontapetoskey.com
SUMMARY:No Meeting on December 16
DESCRIPTION:
URL:https://zontapetoskey.com/event/no-meeting-on-december-16/
LOCATION:MI
END:VEVENT
BEGIN:VEVENT
DTSTART;TZID=UTC:20211202T120000
DTEND;TZID=UTC:20211202T130000
DTSTAMP:20260425T113233
CREATED:20211020T201810Z
LAST-MODIFIED:20211129T154802Z
UID:1217-1638446400-1638450000@zontapetoskey.com
SUMMARY:Zonta Program Meeting
DESCRIPTION:Let’s celebrate the 50th anniversary of Zonta Club of Petoskey Area’s charter in December 1971!  We’ll gather together for great food\, fun\, and memories provided by Sherry McGuffin. We will have some new prospective members joining us as well. Come dressed for the festivities at noon on Thursday December 2 at City Park Grill!
URL:https://zontapetoskey.com/event/zonta-program-meeting-2/
LOCATION:City Park Grill\, 432 E Lake Street\, Petoskey\, MI\, 49770
END:VEVENT
BEGIN:VEVENT
DTSTART;TZID=UTC:20211118T120000
DTEND;TZID=UTC:20211118T130000
DTSTAMP:20260425T113233
CREATED:20211029T122413Z
LAST-MODIFIED:20211029T122413Z
UID:1262-1637236800-1637240400@zontapetoskey.com
SUMMARY:Business Meeting
DESCRIPTION:Please bring your donations on Thursday\, November 18 for the annual Harvest Food and Supply Drive supporting the Safe Home needs.  Kim Phelps will be getting a fact sheet on needs\, but in the meantime\, here are some suggestions: \nSafe Home Needs Community members often ask how they can make a meaningful difference in the lives of those utilizing Safe Home services. The Safe Home’s greatest need is supermarket/grocery/gas gift cards and financial contributions of all amounts so that we have the flexibility to act immediately to each of our client’s unique situations as they arise. \nGift Cards Gift cards are most helpful in responding to current shelter needs and give staff the opportunity to purchase perishable items such as milk\, eggs and bread. Consider a gift card to Meijer\, Walmart\, Oleson’s Food Stores\, D&W Fresh Market\, Dollar General\, major gas stations\, cell phone gift cards or VISA gift cards. \nFinancial Contributions Financial contributions are another great option\, made by check or online at wrcnm.org\, then click on the “GIVE” button. In-Kind Donations \nThese are the most needed items that help the Safe Home feel like ‘home’:\n• Coffee/Creamer\n• Boxed/Canned Meals\n• Cake/Brownie/Cookie Mixes\n• Baking Needs – Cooking Oil\, Sugar\, etc.\n• Paper Towel/Kleenex\n• Laundry Detergent\n• Hand/Dish Soap\n• Women’s Socks/Undergarments (new/in package) \nDonations to the Harvest Food and Supply Drive are a meaningful way for community members and groups to make a difference in the lives of domestic abuse survivors and their children utilizing Safe Home services. The annual drive brings in a significant amount of the food and supplies provided to families at the shelter from Antrim\, Charlevoix\, Cheboygan\, Emmet and Otsego counties.
URL:https://zontapetoskey.com/event/business-meeting/
LOCATION:Petoskey District Library Classroom\, 500 E Mitchell Street\, Petoskey\, MI\, 49770\, United States
END:VEVENT
BEGIN:VEVENT
DTSTART;TZID=UTC:20211106T120000
DTEND;TZID=UTC:20211106T140000
DTSTAMP:20260425T113233
CREATED:20211010T171044Z
LAST-MODIFIED:20211021T150330Z
UID:1206-1636200000-1636207200@zontapetoskey.com
SUMMARY:Zonta Club of Petoskey Announces 49th Annual Fashion Show
DESCRIPTION:BUY TICKETS HERE \nZonta Club of Petoskey invites you to our 49th annual Fashion Show on Saturday\, November 6\, 2021 from 12 p.m. – 2 p.m. and we will celebrate Zonta Club of Petoskey’s 50th anniversary on this date as well.  \nThere will be a live\, in-person reception on Saturday\, November 6 starting at 12 noon in the Rose Room at the Perry Hotel.  There will be live music\, a cash bar\, and heavy hors d’oeuvres. At 1 p.m. we will show a video produced by Scott Castelein of fall fashions from area retailers. Tickets for this event are limited to 100 and will cost $50 per person. \n  \nAt the end of the event\, there will be a drawing for gift baskets\, and for a diamond piece donated by Arlington Jewelers. All ticket holders are eligible to win the diamond. Gift basket raffle tickets are available by contacting a Zonta Club of Petoskey member\, or emailing shawncordesosborne.manager@gmail.com. \n  \nTickets to either event can be purchased by going to www.zontapetoskey.com and clicking on “Buy Tickets Now” button. Checks can also be made payable to Zonta Club of Petoskey and mailed to Zonta Fashion Show\, 807 Howard Street\, Petoskey\, MI 49770. \n  \nZonta Club of Petoskey uses the funds raised at the fashion show to provide supporting grants to area organizations that help women and girls in our area\, including a $2\,500 scholarship to NCMC for area women seeking to re-enter the workforce\, $1000 scholarship to an area high school girl\, remodeling a room in the SAFE House and much more. Last year\, the club received requests of more than $35\,000\, and only had $10\,000 to give as a result of the show cancellation in 2020 due to COVID. \n  \nMany thanks go to our presenting sponsors: Arlington Jewelers\, Comfort Keepers\, Odawa Casino\, Reezie DeVet\, Scott Castelein Photography\, and Stafford’s Hospitality. Thanks also to our gold sponsors: Petoskey Plastics\, North Central Michigan College\, Petoskey Surgeons and Kim Phelps/Raymond James. Thanks to our silver sponsors: All Weather Seal\, Crooked Tree Arts Center\, Crooked Tree Capital Advisors\, First Community Bank\, Lite 96.3 FM\, and Osborne Klein. And to our bronze sponsor: Flower’s From Sky’s the Limit.
URL:https://zontapetoskey.com/event/zonta-club-of-petoskey-announces-49th-annual-fashion-show/
LOCATION:Perry Hotel Rose Room\, 100 Lewis Street\, Petoskey\, MI\, 49770\, United States
END:VEVENT
BEGIN:VEVENT
DTSTART;TZID=UTC:20211104T120000
DTEND;TZID=UTC:20211104T130000
DTSTAMP:20260425T113233
CREATED:20211020T201446Z
LAST-MODIFIED:20211029T122602Z
UID:1214-1636027200-1636030800@zontapetoskey.com
SUMMARY:Zonta Program Meeting
DESCRIPTION:Deadline for turning in your leftover tickets\, money and ticket stubs is at our meeting on November 4.  Cash and checks only.  Tour and discussion of the current CTAC exhbit\, Kindred: Traditional Arts of the LTBB of Odawa Indians. Feel free to bring lunch and join CTAC before our meeting for “Coffee at 10” for talk with Odawa artist.
URL:https://zontapetoskey.com/event/zonta-program-meeting/
LOCATION:Crooked Tree Arts Center Theater\, 461 E Mitchell\, Petoskey\, MI\, 49770\, United States
END:VEVENT
BEGIN:VEVENT
DTSTART;TZID=UTC:20211021T120000
DTEND;TZID=UTC:20211021T130000
DTSTAMP:20260425T113233
CREATED:20211010T171858Z
LAST-MODIFIED:20211010T172244Z
UID:1210-1634817600-1634821200@zontapetoskey.com
SUMMARY:Zonta Business Meeting
DESCRIPTION:The third Thursday of each month is the club’s Business Meeting.  All members are informed of the club’s financial status and the activities of each committee.
URL:https://zontapetoskey.com/event/zonta-business-meeting/
LOCATION:Petoskey District Library Classroom\, 500 E Mitchell Street\, Petoskey\, MI\, 49770\, United States
END:VEVENT
END:VCALENDAR