BEGIN:VCALENDAR
VERSION:2.0
PRODID:-//Zonta Club of Petoskey Area - ECPv6.15.11//NONSGML v1.0//EN
CALSCALE:GREGORIAN
METHOD:PUBLISH
X-WR-CALNAME:Zonta Club of Petoskey Area
X-ORIGINAL-URL:https://zontapetoskey.com
X-WR-CALDESC:Events for Zonta Club of Petoskey Area
REFRESH-INTERVAL;VALUE=DURATION:PT1H
X-Robots-Tag:noindex
X-PUBLISHED-TTL:PT1H
BEGIN:VTIMEZONE
TZID:UTC
BEGIN:STANDARD
TZOFFSETFROM:+0000
TZOFFSETTO:+0000
TZNAME:UTC
DTSTART:20230101T000000
END:STANDARD
END:VTIMEZONE
BEGIN:VEVENT
DTSTART;TZID=UTC:20260115T120000
DTEND;TZID=UTC:20260115T130000
DTSTAMP:20260423T222738
CREATED:20251120T184304Z
LAST-MODIFIED:20251120T184304Z
UID:2419-1768478400-1768482000@zontapetoskey.com
SUMMARY:Business Meeting
DESCRIPTION:The meeting will be at noon at First Presbyterian Church of Petoskey in the Westminster Room. Brown bag lunch.
URL:https://zontapetoskey.com/event/business-meeting-46/
LOCATION:First Presbyterian Church\, 501 E Mitchell St\, Petoskey\, MI\, 49770
END:VEVENT
BEGIN:VEVENT
DTSTART;TZID=UTC:20251211T113000
DTEND;TZID=UTC:20251211T130000
DTSTAMP:20260423T222738
CREATED:20251120T184213Z
LAST-MODIFIED:20251120T184213Z
UID:2417-1765452600-1765458000@zontapetoskey.com
SUMMARY:Holiday Party
DESCRIPTION:HOLIDAY PARTY!!! Let’s get together for some good old fashioned merriment at Palette Bistro on Thursday\, December 11 at 11:30. Appetizers and choice of entrée and non-alcoholic beverage included. Fun games and prizes too!
URL:https://zontapetoskey.com/event/holiday-party-4/
LOCATION:Palette Bistro\, 321 Bay St\, Petoskey\, MI\, 49770
END:VEVENT
BEGIN:VEVENT
DTSTART;TZID=UTC:20251204T120000
DTEND;TZID=UTC:20251204T130000
DTSTAMP:20260423T222738
CREATED:20251120T184057Z
LAST-MODIFIED:20251120T184329Z
UID:2415-1764849600-1764853200@zontapetoskey.com
SUMMARY:Fashion Show Debrief
DESCRIPTION:The meeting will be at noon at First Presbyterian Church of Petoskey in the Westminster Room. Brown bag lunch.
URL:https://zontapetoskey.com/event/business-meeting-45/
LOCATION:First Presbyterian Church\, 501 E Mitchell St\, Petoskey\, MI\, 49770
END:VEVENT
BEGIN:VEVENT
DTSTART;TZID=UTC:20251120T120000
DTEND;TZID=UTC:20251120T130000
DTSTAMP:20260423T222738
CREATED:20250904T131715Z
LAST-MODIFIED:20250904T131715Z
UID:2384-1763640000-1763643600@zontapetoskey.com
SUMMARY:Business Meeting
DESCRIPTION:The meeting will be at noon at First Presbyterian Church of Petoskey in the Westminster Room. Brown bag lunch.
URL:https://zontapetoskey.com/event/business-meeting-44/
END:VEVENT
BEGIN:VEVENT
DTSTART;TZID=UTC:20251106T120000
DTEND;TZID=UTC:20251106T130000
DTSTAMP:20260423T222738
CREATED:20250904T131654Z
LAST-MODIFIED:20251016T171808Z
UID:2382-1762430400-1762434000@zontapetoskey.com
SUMMARY:Program Meeting
DESCRIPTION:The meeting will be at noon at First Presbyterian Church of Petoskey in the Westminster Room. Brown bag lunch. Fashion show debrief and a presentation from member Kim Phelps about fall conference.
URL:https://zontapetoskey.com/event/program-meeting-36/
LOCATION:First Presbyterian Church\, 501 E Mitchell St\, Petoskey\, MI\, 49770
END:VEVENT
BEGIN:VEVENT
DTSTART;TZID=UTC:20251101T110000
DTEND;TZID=UTC:20251101T140000
DTSTAMP:20260423T222738
CREATED:20250807T151324Z
LAST-MODIFIED:20250807T151324Z
UID:2346-1761994800-1762005600@zontapetoskey.com
SUMMARY:53rd Annual Zonta Fashion Show
DESCRIPTION:Zonta Club of Petoskey invites the public to their 53rd annual Fashion Show on Saturday\, November 1 from 11 a.m. to 2 p.m. in the Lange Center at Bay Harbor Yacht Club. The Fashion Show\, themed “We Are Women. Hear Us Roar\,” will present its full runway show and highlight the latest fall and winter fashions from more than 30 retailers in the Petoskey-Harbor Springs area\, and include an elegant lunch\, entertainment\, a silent auction and a gift basket raffle.  Michelle Chenard will be the featured performer for the event and Parker Marshall will be spinning the music! \nThis year all attendees will be entered into a drawing for a $2\,500+ piece of diamond jewelry\, generously donated by Arlington Jewelers. \nEach year\, Zonta Club of Petoskey gives more than $20\,000 to organizations that improve the status of women and girls.  The Fashion Show is the club’s primary fundraiser. \nTickets are $100 each and you can purchase tables of 6 or 8. Make your reservations starting August 1 online by clicking Buy Tickets Now. For those who wish to pay by check\, please download this form. Please provide names of guests to Kathy Bardins\, kbardins@outlook.com by October 10. \nCome join us for fun\, food\, fashions and fabulous auction items and support our efforts to advance the status of women and girls.
URL:https://zontapetoskey.com/event/53rd-annual-zonta-fashion-show/
LOCATION:Bay Harbor Yacht Club\, 4300 Vista Drive\, Bay Harbor\, MI\, 49770
END:VEVENT
BEGIN:VEVENT
DTSTART;TZID=UTC:20251025T130000
DTEND;TZID=UTC:20251025T163000
DTSTAMP:20260423T222738
CREATED:20251016T172028Z
LAST-MODIFIED:20251016T172028Z
UID:2404-1761397200-1761409800@zontapetoskey.com
SUMMARY:Join or Die Film Screening & Join Fair
DESCRIPTION:Zonta will set up a table at this event. \nA screening of the film “Join or Die”\, that explores the importance of community and civic engagement\, will be followed by a “Join Fair”. \nIn this Emmy-nominated feature documentary\, follow the half-century story of America’s civic unraveling through the journey of legendary social scientist Robert Putnam\, whose groundbreaking “Bowling Alone” research into America’s decades-long decline in community connections could hold the answers to our democracy’s present crisis. \nFlanked by influential fans and scholars — from Priya Parker\, Pete Buttigieg\, and Surgeon General Vivek Murthy to Jane McAlevey\, Hillary Clinton\, and Eddie Glaude Jr. — as well as inspiring groups building community in neighborhoods across the country\, join Bob as he explores three urgent civic questions: What makes democracy work? Why is American democracy in crisis? And\, most importantly… What can we do about it? \nOffered in partnership with the Rotary Club of Petoskey.
URL:https://zontapetoskey.com/event/join-or-die-film-screening-join-fair/
LOCATION:Crooked Tree Arts Center Theater\, 461 E Mitchell\, Petoskey\, MI\, 49770\, United States
END:VEVENT
BEGIN:VEVENT
DTSTART;TZID=UTC:20251016T120000
DTEND;TZID=UTC:20251016T130000
DTSTAMP:20260423T222738
CREATED:20250904T131630Z
LAST-MODIFIED:20250904T131630Z
UID:2380-1760616000-1760619600@zontapetoskey.com
SUMMARY:Business Meeting
DESCRIPTION:The meeting will be at noon at First Presbyterian Church of Petoskey in the Westminster Room. Brown bag lunch.
URL:https://zontapetoskey.com/event/business-meeting-43/
LOCATION:First Presbyterian Church\, 501 E Mitchell St\, Petoskey\, MI\, 49770
END:VEVENT
BEGIN:VEVENT
DTSTART;TZID=UTC:20251002T120000
DTEND;TZID=UTC:20251002T130000
DTSTAMP:20260423T222738
CREATED:20250904T131607Z
LAST-MODIFIED:20250907T192939Z
UID:2378-1759406400-1759410000@zontapetoskey.com
SUMMARY:Program Meeting
DESCRIPTION:We welcome Samantha Stites who will share her story of survival. \nThe meeting will be at noon at First Presbyterian Church of Petoskey in the Westminster Room. Brown bag lunch.
URL:https://zontapetoskey.com/event/program-meeting-35/
LOCATION:First Presbyterian Church\, 501 E Mitchell St\, Petoskey\, MI\, 49770
END:VEVENT
BEGIN:VEVENT
DTSTART;TZID=UTC:20250918T120000
DTEND;TZID=UTC:20250918T130000
DTSTAMP:20260423T222738
CREATED:20250904T131542Z
LAST-MODIFIED:20250904T131542Z
UID:2376-1758196800-1758200400@zontapetoskey.com
SUMMARY:Business Meeting
DESCRIPTION:The meeting will be at noon at First Presbyterian Church of Petoskey in the Westminster Room. Brown bag lunch.
URL:https://zontapetoskey.com/event/business-meeting-42/
LOCATION:First Presbyterian Church\, 501 E Mitchell St\, Petoskey\, MI\, 49770
END:VEVENT
BEGIN:VEVENT
DTSTART;TZID=UTC:20250904T120000
DTEND;TZID=UTC:20250904T130000
DTSTAMP:20260423T222738
CREATED:20250904T131502Z
LAST-MODIFIED:20250904T131502Z
UID:2373-1756987200-1756990800@zontapetoskey.com
SUMMARY:Program Meeting
DESCRIPTION:Our next meeting is this Thursday\, September 4 at noon. We will be meeting at the Friendship Centers of Emmet County\, 1322 Anderson Road\, Petoskey. You will have the option to purchase lunch for $3. Menus is sliced ham\, sweet potatoes\, green beans\, pineapple\, and bread. \n  \nIn addition to your usual RSVP process if you will be absent\, please let Sherry know if you will attend so she can give them an estimated head count for a meeting space.
URL:https://zontapetoskey.com/event/program-meeting-34/
LOCATION:Friendship Center\, 1322 Anderson Rd\, Petoskey\, MI\, 49770\, United States
END:VEVENT
BEGIN:VEVENT
DTSTART;TZID=UTC:20250821T120000
DTEND;TZID=UTC:20250821T130000
DTSTAMP:20260423T222738
CREATED:20250807T151201Z
LAST-MODIFIED:20250807T151201Z
UID:2344-1755777600-1755781200@zontapetoskey.com
SUMMARY:Business Meeting
DESCRIPTION:The meeting will be at noon at First Presbyterian Church of Petoskey in the Westminster Room. Brown bag lunch.
URL:https://zontapetoskey.com/event/business-meeting-41/
LOCATION:First Presbyterian Church\, 501 E Mitchell St\, Petoskey\, MI\, 49770
END:VEVENT
BEGIN:VEVENT
DTSTART;TZID=UTC:20250807T120000
DTEND;TZID=UTC:20250807T130000
DTSTAMP:20260423T222738
CREATED:20250807T151006Z
LAST-MODIFIED:20250807T151006Z
UID:2342-1754568000-1754571600@zontapetoskey.com
SUMMARY:Program Meeting
DESCRIPTION:We are meeting in the Children’s Room at the Petoskey District Library. See you there at noon. You are still welcome to bring your lunch if you prefer. We will then take a tour of the Petoskey District Library and learn about library services and resources.
URL:https://zontapetoskey.com/event/program-meeting-33/
LOCATION:Petoskey District Library Children’s Program Room
END:VEVENT
BEGIN:VEVENT
DTSTART;TZID=UTC:20250619T120000
DTEND;TZID=UTC:20250619T130000
DTSTAMP:20260423T222738
CREATED:20250122T140240Z
LAST-MODIFIED:20250122T140240Z
UID:2242-1750334400-1750338000@zontapetoskey.com
SUMMARY:Business Meeting
DESCRIPTION:The meeting will be at noon at First Presbyterian Church of Petoskey in the Westminster Room. Brown bag lunch.
URL:https://zontapetoskey.com/event/business-meeting-39/
LOCATION:First Presbyterian Church\, 501 E Mitchell St\, Petoskey\, MI\, 49770
END:VEVENT
BEGIN:VEVENT
DTSTART;TZID=UTC:20250605T120000
DTEND;TZID=UTC:20250605T130000
DTSTAMP:20260423T222738
CREATED:20250122T140214Z
LAST-MODIFIED:20250122T140214Z
UID:2240-1749124800-1749128400@zontapetoskey.com
SUMMARY:Program Meeting
DESCRIPTION:The meeting will be at noon at First Presbyterian Church of Petoskey in the Westminster Room. Brown bag lunch.
URL:https://zontapetoskey.com/event/program-meeting-31/
LOCATION:First Presbyterian Church\, 501 E Mitchell St\, Petoskey\, MI\, 49770
END:VEVENT
BEGIN:VEVENT
DTSTART;TZID=UTC:20250515T120000
DTEND;TZID=UTC:20250515T130000
DTSTAMP:20260423T222738
CREATED:20250122T140651Z
LAST-MODIFIED:20250122T140651Z
UID:2250-1747310400-1747314000@zontapetoskey.com
SUMMARY:Business Meeting
DESCRIPTION:The meeting will be at noon at First Presbyterian Church of Petoskey in the Westminster Room. Brown bag lunch.
URL:https://zontapetoskey.com/event/business-meeting-40/
LOCATION:First Presbyterian Church\, 501 E Mitchell St\, Petoskey\, MI\, 49770
END:VEVENT
BEGIN:VEVENT
DTSTART;TZID=UTC:20250514T173000
DTEND;TZID=UTC:20250514T183000
DTSTAMP:20260423T222738
CREATED:20250430T135928Z
LAST-MODIFIED:20250430T140059Z
UID:2289-1747243800-1747247400@zontapetoskey.com
SUMMARY:Fashion Show Meeting
DESCRIPTION:Bring a snack to share. Alternate date for those who cannot attend 5/7. Held at Kathy’s house. You do not need to attend both meetings.
URL:https://zontapetoskey.com/event/fashion-show-meeting-2/
END:VEVENT
BEGIN:VEVENT
DTSTART;TZID=UTC:20250507T173000
DTEND;TZID=UTC:20250507T183000
DTSTAMP:20260423T222738
CREATED:20250430T135833Z
LAST-MODIFIED:20250430T140038Z
UID:2287-1746639000-1746642600@zontapetoskey.com
SUMMARY:Fashion Show Meeting
DESCRIPTION:Held at Kathy’s house. Bring a snack to share. There is an alternative meeting on May 14; you do not have to attend both meetings.
URL:https://zontapetoskey.com/event/fashion-show-meeting/
END:VEVENT
BEGIN:VEVENT
DTSTART;TZID=UTC:20250501T120000
DTEND;TZID=UTC:20250501T130000
DTSTAMP:20260423T222738
CREATED:20250122T140628Z
LAST-MODIFIED:20250430T140016Z
UID:2248-1746100800-1746104400@zontapetoskey.com
SUMMARY:Program Meeting
DESCRIPTION:The meeting will be at noon at First Presbyterian Church of Petoskey in the Westminster Room. Brown bag lunch. Val Meyerson\, Library Director at Petoskey District Library will be discussing Rank Choice Voting with Rank MI Vote.
URL:https://zontapetoskey.com/event/program-meeting-32/
LOCATION:First Presbyterian Church\, 501 E Mitchell St\, Petoskey\, MI\, 49770
END:VEVENT
BEGIN:VEVENT
DTSTART;TZID=UTC:20250417T120000
DTEND;TZID=UTC:20250417T130000
DTSTAMP:20260423T222738
CREATED:20250122T140554Z
LAST-MODIFIED:20250314T160107Z
UID:2246-1744891200-1744894800@zontapetoskey.com
SUMMARY:Program Meeting
DESCRIPTION:The meeting will be at noon at First Presbyterian Church of Petoskey in the Westminster Room. Brown bag lunch. \nWe will host our grantees and present checks.
URL:https://zontapetoskey.com/event/business-meeting-37/
LOCATION:First Presbyterian Church\, 501 E Mitchell St\, Petoskey\, MI\, 49770
END:VEVENT
BEGIN:VEVENT
DTSTART;TZID=UTC:20250403T120000
DTEND;TZID=UTC:20250403T130000
DTSTAMP:20260423T222738
CREATED:20250122T140437Z
LAST-MODIFIED:20250314T160017Z
UID:2244-1743681600-1743685200@zontapetoskey.com
SUMMARY:Business Meeting
DESCRIPTION:The meeting will be at noon at First Presbyterian Church of Petoskey in the Westminster Room. Brown bag lunch.
URL:https://zontapetoskey.com/event/program-meeting-28/
LOCATION:First Presbyterian Church\, 501 E Mitchell St\, Petoskey\, MI\, 49770
END:VEVENT
BEGIN:VEVENT
DTSTART;TZID=UTC:20250320T120000
DTEND;TZID=UTC:20250320T130000
DTSTAMP:20260423T222738
CREATED:20250122T140139Z
LAST-MODIFIED:20250122T140139Z
UID:2238-1742472000-1742475600@zontapetoskey.com
SUMMARY:Business Meeting
DESCRIPTION:The meeting will be at noon at First Presbyterian Church of Petoskey in the Westminster Room. Brown bag lunch.
URL:https://zontapetoskey.com/event/business-meeting-38/
LOCATION:First Presbyterian Church\, 501 E Mitchell St\, Petoskey\, MI\, 49770
END:VEVENT
BEGIN:VEVENT
DTSTART;TZID=UTC:20250306T120000
DTEND;TZID=UTC:20250306T130000
DTSTAMP:20260423T222738
CREATED:20250122T140113Z
LAST-MODIFIED:20250122T140113Z
UID:2236-1741262400-1741266000@zontapetoskey.com
SUMMARY:Program Meeting
DESCRIPTION:The meeting will be at noon at First Presbyterian Church of Petoskey in the Westminster Room. Brown bag lunch.
URL:https://zontapetoskey.com/event/program-meeting-30/
LOCATION:First Presbyterian Church\, 501 E Mitchell St\, Petoskey\, MI\, 49770
END:VEVENT
BEGIN:VEVENT
DTSTART;TZID=UTC:20250220T120000
DTEND;TZID=UTC:20250220T130000
DTSTAMP:20260423T222738
CREATED:20241230T180115Z
LAST-MODIFIED:20241230T180115Z
UID:2226-1740052800-1740056400@zontapetoskey.com
SUMMARY:Business Meeting
DESCRIPTION:The meeting will be at noon at First Presbyterian Church of Petoskey in the Westminster Room. Brown bag lunch.
URL:https://zontapetoskey.com/event/business-meeting-36/
LOCATION:First Presbyterian Church\, 501 E Mitchell St\, Petoskey\, MI\, 49770
END:VEVENT
BEGIN:VEVENT
DTSTART;TZID=UTC:20250206T120000
DTEND;TZID=UTC:20250206T130000
DTSTAMP:20260423T222738
CREATED:20250122T135953Z
LAST-MODIFIED:20250122T135953Z
UID:2232-1738843200-1738846800@zontapetoskey.com
SUMMARY:Program Meeting
DESCRIPTION:The meeting will be at noon at First Presbyterian Church of Petoskey in the Westminster Room. Brown bag lunch.
URL:https://zontapetoskey.com/event/program-meeting-29/
LOCATION:First Presbyterian Church\, 501 E Mitchell St\, Petoskey\, MI\, 49770
END:VEVENT
BEGIN:VEVENT
DTSTART;TZID=UTC:20250129T173000
DTEND;TZID=UTC:20250129T210000
DTSTAMP:20260423T222738
CREATED:20250122T135840Z
LAST-MODIFIED:20250122T135840Z
UID:2229-1738171800-1738184400@zontapetoskey.com
SUMMARY:Timberwolves Basketball Game - Hunger Games
DESCRIPTION:As a thank you for all of the support Zonta has provided North Central Michigan College over the years\, NCMC would love to extend a warm invitation to all Zontians and their family to attend a Timberwolves Basketball Game on January 29th. The Women’s Game starts at 5:30p and Men’s Basketball tips off at 7:30. Please see the link below to RSVP. Family and partners are welcome! \nRegistration Link \nWomen’s game: 5:30 p.m. \nMen’s game: 7:30 p.m. \n  \nHere’s how you can participate: \n  \n\nDonate: Bring non-perishable food items to the games. Donations will support North Central’s Campus Cupboard\, our on-campus food pantry available to any North Central student.\n\nMost needed items include toiletry and personal hygiene items\, boxed meals\, pasta\, and canned fruits/veggies.\n\n\nAttend: Enjoy free admission to both games with your food donation.\nSupport: Encourage students and community members to participate in this worthy cause. Follow the Timberwolves on social media (@ncmctimberwolves on FB & IG) and share posts promoting the event.
URL:https://zontapetoskey.com/event/timberwolves-basketball-game-hunger-games/
LOCATION:NCMC Petoskey Plastics Arena
END:VEVENT
BEGIN:VEVENT
DTSTART;TZID=UTC:20250116T120000
DTEND;TZID=UTC:20250116T130000
DTSTAMP:20260423T222738
CREATED:20241230T180003Z
LAST-MODIFIED:20241230T180003Z
UID:2222-1737028800-1737032400@zontapetoskey.com
SUMMARY:Business Meeting
DESCRIPTION:The meeting will be at noon at First Presbyterian Church of Petoskey in the Westminster Room. Brown bag lunch.
URL:https://zontapetoskey.com/event/business-meeting-35/
LOCATION:First Presbyterian Church\, 501 E Mitchell St\, Petoskey\, MI\, 49770
END:VEVENT
BEGIN:VEVENT
DTSTART;TZID=UTC:20250102T120000
DTEND;TZID=UTC:20250102T130000
DTSTAMP:20260423T222738
CREATED:20241230T175932Z
LAST-MODIFIED:20241230T175932Z
UID:2220-1735819200-1735822800@zontapetoskey.com
SUMMARY:Program Meeting
DESCRIPTION:Sherry McGuffin will be our program speaker on January 2\, focusing on the advocacy efforts of Zonta International. She will be speaking on Zontian Biennial goals. We will learn what we can do concerning violence against women\, climate justice\, women in decision making\, and educational equality. We will learn how to turn local actions into global connections. \nThe meeting will be at noon at First Presbyterian Church of Petoskey in the Westminster Room. Brown bag lunch.
URL:https://zontapetoskey.com/event/program-meeting-27/
LOCATION:First Presbyterian Church\, 501 E Mitchell St\, Petoskey\, MI\, 49770
END:VEVENT
BEGIN:VEVENT
DTSTART;TZID=UTC:20241205T113000
DTEND;TZID=UTC:20241205T133000
DTSTAMP:20260423T222738
CREATED:20241106T215608Z
LAST-MODIFIED:20241204T152905Z
UID:2195-1733398200-1733405400@zontapetoskey.com
SUMMARY:Holiday Party
DESCRIPTION:Come one\, come all to the Zonta Club of Petoskey annual holiday party\, Thursday\, December 5\, from 11:30 am to 1:30 pm at Palette Bistro in downtown Petoskey. This is a gift to our club for all of your hard work throughout the year! \nThere will be great food and fellowship\, plus fun and games.  Poinsettias have once again been generously donated by Petoskey Plastics. \nAlso\, remember that we are collecting donations for Northmen Den at the party. Click here for a list of items to bring.  Please no glass bottles. \nPlease make sure that you RSVP to Laura Taylor as soon as possible so that we have the right count of people attending.
URL:https://zontapetoskey.com/event/holiday-party-3/
LOCATION:Palette Bistro\, 321 Bay St\, Petoskey\, MI\, 49770
END:VEVENT
BEGIN:VEVENT
DTSTART;TZID=UTC:20241121T120000
DTEND;TZID=UTC:20241121T130000
DTSTAMP:20260423T222738
CREATED:20241013T135939Z
LAST-MODIFIED:20241013T135939Z
UID:2183-1732190400-1732194000@zontapetoskey.com
SUMMARY:Business Meeting
DESCRIPTION:The meeting will be at noon at First Presbyterian Church of Petoskey in the Westminster Room. Brown bag lunch.
URL:https://zontapetoskey.com/event/business-meeting-34/
LOCATION:First Presbyterian Church\, 501 E Mitchell St\, Petoskey\, MI\, 49770
END:VEVENT
END:VCALENDAR