BEGIN:VCALENDAR
VERSION:2.0
PRODID:-//Zonta Club of Petoskey Area - ECPv6.15.11//NONSGML v1.0//EN
CALSCALE:GREGORIAN
METHOD:PUBLISH
X-WR-CALNAME:Zonta Club of Petoskey Area
X-ORIGINAL-URL:https://zontapetoskey.com
X-WR-CALDESC:Events for Zonta Club of Petoskey Area
REFRESH-INTERVAL;VALUE=DURATION:PT1H
X-Robots-Tag:noindex
X-PUBLISHED-TTL:PT1H
BEGIN:VTIMEZONE
TZID:UTC
BEGIN:STANDARD
TZOFFSETFROM:+0000
TZOFFSETTO:+0000
TZNAME:UTC
DTSTART:20250101T000000
END:STANDARD
END:VTIMEZONE
BEGIN:VEVENT
DTSTART;TZID=UTC:20260217T160000
DTEND;TZID=UTC:20260217T180000
DTSTAMP:20260423T202157
CREATED:20260209T191853Z
LAST-MODIFIED:20260209T191853Z
UID:2454-1771344000-1771351200@zontapetoskey.com
SUMMARY:Mastectomy Pillow Cutout
DESCRIPTION:This is a fun event. You only need to know how to cut. Please bring scissors if you can. \n 
URL:https://zontapetoskey.com/event/mastectomy-pillow-cutout-2/
LOCATION:Cross of Christ Lutheran\, 1450 E Mitchell St\, Petoskey\, MI\, 49770\, United States
END:VEVENT
END:VCALENDAR