BEGIN:VCALENDAR
VERSION:2.0
PRODID:-//Zonta Club of Petoskey Area - ECPv6.15.11//NONSGML v1.0//EN
CALSCALE:GREGORIAN
METHOD:PUBLISH
X-ORIGINAL-URL:https://zontapetoskey.com
X-WR-CALDESC:Events for Zonta Club of Petoskey Area
REFRESH-INTERVAL;VALUE=DURATION:PT1H
X-Robots-Tag:noindex
X-PUBLISHED-TTL:PT1H
BEGIN:VTIMEZONE
TZID:UTC
BEGIN:STANDARD
TZOFFSETFROM:+0000
TZOFFSETTO:+0000
TZNAME:UTC
DTSTART:20230101T000000
END:STANDARD
END:VTIMEZONE
BEGIN:VEVENT
DTSTART;TZID=UTC:20241017T120000
DTEND;TZID=UTC:20241017T130000
DTSTAMP:20260424T230456
CREATED:20241013T135836Z
LAST-MODIFIED:20241013T140226Z
UID:2179-1729166400-1729170000@zontapetoskey.com
SUMMARY:Business Meeting
DESCRIPTION:The meeting will be at noon at First Presbyterian Church of Petoskey in the Westminster Room. Brown bag lunch. \nPlease bring all donated and solicited items to the meeting on Oct 17th or during our silent auction prep on October 29th.  (Prefer Oct 17th!)\n\n**Don’t forget to update the spreadsheet with all requested information. 
URL:https://zontapetoskey.com/event/business-meeting-33/
LOCATION:First Presbyterian Church\, 501 E Mitchell St\, Petoskey\, MI\, 49770
END:VEVENT
END:VCALENDAR