BEGIN:VCALENDAR
VERSION:2.0
PRODID:-//Zonta Club of Petoskey Area - ECPv6.15.11//NONSGML v1.0//EN
CALSCALE:GREGORIAN
METHOD:PUBLISH
X-WR-CALNAME:Zonta Club of Petoskey Area
X-ORIGINAL-URL:https://zontapetoskey.com
X-WR-CALDESC:Events for Zonta Club of Petoskey Area
REFRESH-INTERVAL;VALUE=DURATION:PT1H
X-Robots-Tag:noindex
X-PUBLISHED-TTL:PT1H
BEGIN:VTIMEZONE
TZID:UTC
BEGIN:STANDARD
TZOFFSETFROM:+0000
TZOFFSETTO:+0000
TZNAME:UTC
DTSTART:20230101T000000
END:STANDARD
END:VTIMEZONE
BEGIN:VEVENT
DTSTART;VALUE=DATE:20240308
DTEND;VALUE=DATE:20240309
DTSTAMP:20260425T105744
CREATED:20240223T140148Z
LAST-MODIFIED:20240223T140148Z
UID:2032-1709856000-1709942399@zontapetoskey.com
SUMMARY:Zonta Rose Day / International Women's Day
DESCRIPTION:We invite you to join us in honoring the incredible people who have made a significant impact on your life. Show your appreciation by making a gift in their name. \nZonta Rose Day\, celebrated alongside International Women’s Day on 8 March\, is a time to recognize the achievements\, strength and resilience of women worldwide. It is an opportunity to celebrate those who inspire us\, uplift us and contribute to positive change in our lives and communities. \nYour meaningful gift will not only commemorate the remarkable individuals who have touched your heart but will also support projects and programs that empower and uplift women and girls globally. \nMake A Gift – Zonta Foundation for Women (convio.net)
URL:https://zontapetoskey.com/event/zonta-rose-day-international-womens-day/
END:VEVENT
END:VCALENDAR