BEGIN:VCALENDAR
VERSION:2.0
PRODID:-//Zonta Club of Petoskey Area - ECPv6.15.11//NONSGML v1.0//EN
CALSCALE:GREGORIAN
METHOD:PUBLISH
X-WR-CALNAME:Zonta Club of Petoskey Area
X-ORIGINAL-URL:https://zontapetoskey.com
X-WR-CALDESC:Events for Zonta Club of Petoskey Area
REFRESH-INTERVAL;VALUE=DURATION:PT1H
X-Robots-Tag:noindex
X-PUBLISHED-TTL:PT1H
BEGIN:VTIMEZONE
TZID:UTC
BEGIN:STANDARD
TZOFFSETFROM:+0000
TZOFFSETTO:+0000
TZNAME:UTC
DTSTART:20230101T000000
END:STANDARD
END:VTIMEZONE
BEGIN:VEVENT
DTSTART;TZID=UTC:20240307T120000
DTEND;TZID=UTC:20240307T130000
DTSTAMP:20260425T105745
CREATED:20240111T152244Z
LAST-MODIFIED:20240222T150341Z
UID:2003-1709812800-1709816400@zontapetoskey.com
SUMMARY:Program Meeting
DESCRIPTION:Our speakers for March 7 will be Mary Beauchamp and Mary Hohlbein from the Petoskey District Library.  They will be talking about the Human Library\, coming to the Carnegie Building on August 3. \nThe Human Library® is\, in the true sense of the word\, a library of people. We host events where readers can borrow human beings serving as open books and have conversations they would not normally have access to. Every human book from our bookshelf represents a group in our society that is often subjected to prejudice\, stigmatization or discrimination because of their lifestyle\, diagnosis\, belief\, disability\, social status\, or ethnic origin. \nMary Beauchamp serves as the Collection Development Librarian for Petoskey District Library and has been with the library since 2014. She loves the impact libraries have on shaping minds and building bridges within communities. \nMary Hohlbein has been a Library Assistant at PDL for 5 years\, before which she worked in the Mackinaw Library system for 8 years.  She loves the library for bringing people from all walks of life together and lifting them all up with access to information.
URL:https://zontapetoskey.com/event/program-meeting-20/
LOCATION:First Presbyterian Church\, 501 E Mitchell St\, Petoskey\, MI\, 49770
END:VEVENT
END:VCALENDAR