BEGIN:VCALENDAR
VERSION:2.0
PRODID:-//Zonta Club of Petoskey Area - ECPv6.15.11//NONSGML v1.0//EN
CALSCALE:GREGORIAN
METHOD:PUBLISH
X-WR-CALNAME:Zonta Club of Petoskey Area
X-ORIGINAL-URL:https://zontapetoskey.com
X-WR-CALDESC:Events for Zonta Club of Petoskey Area
REFRESH-INTERVAL;VALUE=DURATION:PT1H
X-Robots-Tag:noindex
X-PUBLISHED-TTL:PT1H
BEGIN:VTIMEZONE
TZID:UTC
BEGIN:STANDARD
TZOFFSETFROM:+0000
TZOFFSETTO:+0000
TZNAME:UTC
DTSTART:20220101T000000
END:STANDARD
END:VTIMEZONE
BEGIN:VEVENT
DTSTART;TZID=UTC:20231212T173000
DTEND;TZID=UTC:20231212T190000
DTSTAMP:20260425T154205
CREATED:20231210T154409Z
LAST-MODIFIED:20231210T154409Z
UID:1986-1702402200-1702407600@zontapetoskey.com
SUMMARY:Fashion Show Debrief
DESCRIPTION:There will be fashion show celebration and debrief  for current members on Tuesday\, December 12 at 5:30 pm at the home of Kathy Bardins.  Please bring a light snack to share and beverages will be provided. \nThis will be an important meeting as we will discuss our location for 2024\, costs\, ticket prices and new responsibilities available to members to assume as Kathy steps down as co-chair of show. \nIf you are unable to attend\, we will send out a survey with questions for you to answer so that all members have the opportunity to speak up and have their opinions and ideas heard.  Please RSVP to Kathy at kbardins@outlook.com so that she knows who is attending. \nIt was our most successful year yet!  Where do we go from here!
URL:https://zontapetoskey.com/event/fashion-show-debrief/
END:VEVENT
END:VCALENDAR