BEGIN:VCALENDAR
VERSION:2.0
PRODID:-//Zonta Club of Petoskey Area - ECPv6.15.11//NONSGML v1.0//EN
CALSCALE:GREGORIAN
METHOD:PUBLISH
X-WR-CALNAME:Zonta Club of Petoskey Area
X-ORIGINAL-URL:https://zontapetoskey.com
X-WR-CALDESC:Events for Zonta Club of Petoskey Area
REFRESH-INTERVAL;VALUE=DURATION:PT1H
X-Robots-Tag:noindex
X-PUBLISHED-TTL:PT1H
BEGIN:VTIMEZONE
TZID:UTC
BEGIN:STANDARD
TZOFFSETFROM:+0000
TZOFFSETTO:+0000
TZNAME:UTC
DTSTART:20220101T000000
END:STANDARD
END:VTIMEZONE
BEGIN:VEVENT
DTSTART;TZID=UTC:20231207T113000
DTEND;TZID=UTC:20231207T130000
DTSTAMP:20260425T154130
CREATED:20231116T143333Z
LAST-MODIFIED:20231116T143430Z
UID:1951-1701948600-1701954000@zontapetoskey.com
SUMMARY:Holiday Party
DESCRIPTION:HOLIDAY PARTY!!! Let’s get together for some good old fashioned merriment at Palette Bistro on Thursday\, December 7 at 11:30. Appetizers and choice of entrée and non-alcoholic beverage included. Fun games and prizes too! Our potential members are invited to join us as our guests. Invite to follow. \nBring your Northmen Den food pantry items.
URL:https://zontapetoskey.com/event/holiday-party-2/
LOCATION:Palette Bistro\, 321 Bay St\, Petoskey\, MI\, 49770
END:VEVENT
END:VCALENDAR