BEGIN:VCALENDAR
VERSION:2.0
PRODID:-//Zonta Club of Petoskey Area - ECPv6.15.11//NONSGML v1.0//EN
CALSCALE:GREGORIAN
METHOD:PUBLISH
X-WR-CALNAME:Zonta Club of Petoskey Area
X-ORIGINAL-URL:https://zontapetoskey.com
X-WR-CALDESC:Events for Zonta Club of Petoskey Area
REFRESH-INTERVAL;VALUE=DURATION:PT1H
X-Robots-Tag:noindex
X-PUBLISHED-TTL:PT1H
BEGIN:VTIMEZONE
TZID:UTC
BEGIN:STANDARD
TZOFFSETFROM:+0000
TZOFFSETTO:+0000
TZNAME:UTC
DTSTART:20220101T000000
END:STANDARD
END:VTIMEZONE
BEGIN:VEVENT
DTSTART;TZID=UTC:20230518T120000
DTEND;TZID=UTC:20230518T130000
DTSTAMP:20260426T040910
CREATED:20230226T190618Z
LAST-MODIFIED:20230502T141156Z
UID:1770-1684411200-1684414800@zontapetoskey.com
SUMMARY:Business Meeting
DESCRIPTION:At this meeting we will install our new board members\, and present the budget for 2023-2024 for a vote. This is an important meeting and we hope everyone can attend. Remember that we are now meeting at First Presbyterian Church of Petoskey in the Westminster Room.  You are welcome to bring your lunch\, or to order in advance from Parkside Deli to be delivered prior to the program or business meeting. \nTo order lunch (self-pay): Call by 3 pm. On Wednesday (231-347-1620) and ask for the Zonta menu.  $13.50 for choice of:\nAny sandwich\, chips & drink\nChef salad with drink\nGreek-ish salad with drink\nLunch will be delivered for you at noon (I updated Parkside Deli with the new delivery location) \nPlease let Laura know IN ADVANCE if you will be absent!\nlaurataylor2001@gmail.com
URL:https://zontapetoskey.com/event/business-meeting-18/
LOCATION:First Presbyterian Church\, 501 E Mitchell St\, Petoskey\, MI\, 49770
END:VEVENT
END:VCALENDAR