BEGIN:VCALENDAR
VERSION:2.0
PRODID:-//Zonta Club of Petoskey Area - ECPv6.15.11//NONSGML v1.0//EN
CALSCALE:GREGORIAN
METHOD:PUBLISH
X-WR-CALNAME:Zonta Club of Petoskey Area
X-ORIGINAL-URL:https://zontapetoskey.com
X-WR-CALDESC:Events for Zonta Club of Petoskey Area
REFRESH-INTERVAL;VALUE=DURATION:PT1H
X-Robots-Tag:noindex
X-PUBLISHED-TTL:PT1H
BEGIN:VTIMEZONE
TZID:UTC
BEGIN:STANDARD
TZOFFSETFROM:+0000
TZOFFSETTO:+0000
TZNAME:UTC
DTSTART:20220101T000000
END:STANDARD
END:VTIMEZONE
BEGIN:VEVENT
DTSTART;TZID=UTC:20230511T190000
DTEND;TZID=UTC:20230511T210000
DTSTAMP:20260426T040908
CREATED:20230502T141910Z
LAST-MODIFIED:20230502T141910Z
UID:1804-1683831600-1683838800@zontapetoskey.com
SUMMARY:Fellowship Event: Steel Magnolias showing
DESCRIPTION:Join us for a Zonta night out on Thursday\, May 11 at 7 PM for an evening showing of Little Traverse Civic Theater’s “Steel Magnolias” at Crooked Tree Arts Center. Tickets are $20 https://www.ltct.org/season-events – Let Sherry know if you can join us so we can get seats close to each other 🙂 \nThe action is set in Truvy’s beauty salon in Chinquapin\, Louisiana\, where all the ladies who are “anybody” come to have their hair done. Helped by her eager new assistant\, Annelle (who is not sure whether or not she is still married)\, the outspoken\, wise-cracking Truvy dispenses shampoos and free advice to the town’s rich curmudgeon\, Ouiser\, (“I’m not crazy\, I’ve just been in a bad mood for forty years”); an eccentric millionaire\, Miss Clairee\, who has a raging sweet tooth; and the local social leader\, M’Lynn\, whose daughter\, Shelby (the prettiest girl in town)\, is about to marry a “good ole boy.” Filled with hilarious repartee and not a few acerbic but humorously revealing verbal collisions\, the play moves toward tragedy when\, in the second act\, the spunky Shelby (who is a diabetic) risks pregnancy and forfeits her life. The sudden realization of their mortality affects the others\, but also draws on the underlying strength—and love—which gives the play\, and its characters\, the special quality to make them truly touching\, funny\, and marvelously amiable company in good times and bad.
URL:https://zontapetoskey.com/event/fellowship-event-steel-magnolias-showing/
LOCATION:Crooked Tree Arts Center Theater\, 461 E Mitchell\, Petoskey\, MI\, 49770\, United States
END:VEVENT
END:VCALENDAR