BEGIN:VCALENDAR
VERSION:2.0
PRODID:-//Zonta Club of Petoskey Area - ECPv6.15.11//NONSGML v1.0//EN
CALSCALE:GREGORIAN
METHOD:PUBLISH
X-WR-CALNAME:Zonta Club of Petoskey Area
X-ORIGINAL-URL:https://zontapetoskey.com
X-WR-CALDESC:Events for Zonta Club of Petoskey Area
REFRESH-INTERVAL;VALUE=DURATION:PT1H
X-Robots-Tag:noindex
X-PUBLISHED-TTL:PT1H
BEGIN:VTIMEZONE
TZID:UTC
BEGIN:STANDARD
TZOFFSETFROM:+0000
TZOFFSETTO:+0000
TZNAME:UTC
DTSTART:20220101T000000
END:STANDARD
END:VTIMEZONE
BEGIN:VEVENT
DTSTART;TZID=UTC:20230506T083000
DTEND;TZID=UTC:20230506T150000
DTSTAMP:20260426T040912
CREATED:20230502T141721Z
LAST-MODIFIED:20230502T141721Z
UID:1801-1683361800-1683385200@zontapetoskey.com
SUMMARY:Camp Daggett Clean-Up Day
DESCRIPTION:Camp Daggett clean -up day is Saturday\, May 6. Want to help? Contact Andy at andy.hayes@campdaggett.org.
URL:https://zontapetoskey.com/event/camp-daggett-clean-up-day/
LOCATION:Camp Daggett
END:VEVENT
END:VCALENDAR